BEGIN:VCALENDAR
VERSION:2.0
PRODID:-//wp-events-plugin.com//6.6.4.4//EN
TZID:Europe/Berlin
X-WR-TIMEZONE:Europe/Berlin
BEGIN:VEVENT
UID:111@sgap-sppa.ch
DTSTART;TZID=Europe/Berlin:20241107T134500
DTEND;TZID=Europe/Berlin:20241107T180000
DTSTAMP:20240918T101656Z
URL:https://sgap-sppa.ch/de/veranstaltungen/2-symposium-zentrum-fuer-psych
 iatrie-und-psychotherapie/
SUMMARY:2. Symposium Zentrum für Psychiatrie und Psychotherapie
DESCRIPTION:Thema:\nSchlaflos im Alter\n\nDatum:\n7. November 2024\n\nRefer
 enten:\nPD Dr.med. Dr.phil. Dipl. Psych. Ulrich Michael Hemmeter-\nDr. med
 . Marcus Hesse\nDr. med. univ. Stephan Kudrnovsky-Moser\nDominik Martig\nA
 lessia Corso\n\nDas detaillierte Program können Sie hier herunterladen. E
 ine Anmeldung zum Symposium ist bis zu 4. Oktober 2024 per E-mail (sekreta
 riatpsychiatrie@spitalaffoltern.ch) möglich.
CATEGORIES:Sonstige Fortbildung
LOCATION:Spital Affoltern AG\, Melchior-Hirzel-Weg 40\, Affoltern a.A\, 891
 0\, Schweiz
X-APPLE-STRUCTURED-LOCATION;VALUE=URI;X-ADDRESS=Melchior-Hirzel-Weg 40\, Af
 foltern a.A\, 8910\, Schweiz;X-APPLE-RADIUS=100;X-TITLE=Spital Affoltern A
 G:geo:0,0
END:VEVENT
BEGIN:VTIMEZONE
TZID:Europe/Berlin
X-LIC-LOCATION:Europe/Berlin
BEGIN:STANDARD
DTSTART:20241027T020000
TZOFFSETFROM:+0200
TZOFFSETTO:+0100
TZNAME:CET
END:STANDARD
END:VTIMEZONE
END:VCALENDAR