BEGIN:VCALENDAR
VERSION:2.0
PRODID:-//wp-events-plugin.com//6.6.4.4//EN
TZID:Europe/Berlin
X-WR-TIMEZONE:Europe/Berlin
BEGIN:VEVENT
UID:129@sgap-sppa.ch
DTSTART;TZID=Europe/Berlin:20260317T130000
DTEND;TZID=Europe/Berlin:20260317T171500
DTSTAMP:20251117T122401Z
URL:https://sgap-sppa.ch/de/veranstaltungen/alterspsychiatrie-in-der-praxi
 s-2/
SUMMARY:Alterspsychiatrie in der Praxis
DESCRIPTION:Im Frühjahr 2026 findet die dritte interprofessionelle Tagung 
 «Alterspsychiatrie in der Praxis» statt.\n\nIm aktuellen Flyer finden Si
 e das Programm sowie den QR-Code\, der Sie direkt zur Anmeldung führt. An
 meldeschluss: 6. März 2026
CATEGORIES:Sonstige Fortbildung
LOCATION:Universitäre Psychiatrische Dienste Bern (UPD)\, Bolligenstrasse 
 111\, Bern\, 3000\, Schweiz
X-APPLE-STRUCTURED-LOCATION;VALUE=URI;X-ADDRESS=Bolligenstrasse 111\, Bern\
 , 3000\, Schweiz;X-APPLE-RADIUS=100;X-TITLE=Universitäre Psychiatrische D
 ienste Bern (UPD):geo:0,0
END:VEVENT
BEGIN:VTIMEZONE
TZID:Europe/Berlin
X-LIC-LOCATION:Europe/Berlin
BEGIN:STANDARD
DTSTART:20251026T020000
TZOFFSETFROM:+0200
TZOFFSETTO:+0100
TZNAME:CET
END:STANDARD
END:VTIMEZONE
END:VCALENDAR